BEGIN:VCALENDAR
VERSION:2.0
PRODID:spatie/icalendar-generator
DESCRIPTION:Events from Asian Arts &amp;amp\; Culture Association
X-WR-CALDESC:Events from Asian Arts &amp;amp\; Culture Association
REFRESH-INTERVAL;VALUE=DURATION:PT1440M
X-PUBLISHED-TTL:PT1440M
BEGIN:VTIMEZONE
TZID:Etc/GMT+0
BEGIN:STANDARD
DTSTART:20251128T180000Z
TZOFFSETFROM:+0000
TZOFFSETTO:+0000
END:STANDARD
END:VTIMEZONE
BEGIN:VTIMEZONE
TZID:UTC
BEGIN:STANDARD
DTSTART:20250729T151704Z
TZOFFSETFROM:+0000
TZOFFSETTO:+0000
END:STANDARD
END:VTIMEZONE
BEGIN:VEVENT
UID:10-10
DTSTAMP:20260425T151704Z
SUMMARY:Contemporary Tai Chi – UVU Community Education
LOCATION:UVU Museum of Art at Lakemount 260 W 1800 S St  Orem UT 84058
ORGANIZER;CN=admin:MAILTO:info@dbproductionsutah.com
DTSTART;TZID=Etc/GMT+0:20260825T180000
DTEND;TZID=Etc/GMT+0:20260825T190000
X-ALT-DESC;FMTTYPE=TEXT/HTML:<p>Tai Chi class at UVU focusing on breathing\
 , balance\, and movement.</p>\n
CATEGORIES:General
URL;VALUE=URI:https://aacaus.com/mc-events/contemporary-tai-chi-uvu-communi
 ty-education-5/
METHOD:PUBLISH
END:VEVENT
END:VCALENDAR